BEGIN:VCALENDAR
VERSION:2.0
PRODID:-//https://www.sarria.gal///NONSGML kigkonsult.se iCalcreator 2.10.15//
METHOD:PUBLISH
BEGIN:VEVENT
UID:20260422T095427UTC-5432Lc6GEv@https://www.sarria.gal/
DTSTAMP:20260422T095427Z
DESCRIPTION: https://www.sarria.gal/es/cidadania/participacion/eventos/even
 to/511-noite-meiga-2025
DTSTART:20250829T180000Z
DTEND:20250830T215200Z
LOCATION:Parque de O Chanto ()
SUMMARY:Noite Meiga 2025
URL:https://www.sarria.gal/es/cidadania/participacion/eventos/evento/511-no
 ite-meiga-2025
END:VEVENT
END:VCALENDAR
