BEGIN:VCALENDAR
VERSION:2.0
PRODID:-//https://www.sarria.gal///NONSGML kigkonsult.se iCalcreator 2.10.15//
METHOD:PUBLISH
BEGIN:VEVENT
UID:20260424T222922UTC-5063KjWtDw@https://www.sarria.gal/
DTSTAMP:20260424T222922Z
DESCRIPTION: https://www.sarria.gal/es/turismo/que-facer/ferias-festas-even
 tos/evento/221-sd-sarriana-13-e-14-de-xaneiro
DTSTART:20240113T113000Z
DTEND:20240114T151500Z
LOCATION:A Ribela ()
SUMMARY:SD SARRIANA. 13 e 14 de xaneiro.
URL:https://www.sarria.gal/es/turismo/que-facer/ferias-festas-eventos/event
 o/221-sd-sarriana-13-e-14-de-xaneiro
END:VEVENT
END:VCALENDAR
