BEGIN:VCALENDAR
VERSION:2.0
PRODID:-//https://www.sarria.gal///NONSGML kigkonsult.se iCalcreator 2.10.15//
METHOD:PUBLISH
BEGIN:VEVENT
UID:20260424T051100UTC-1664lBmUzV@https://www.sarria.gal/
DTSTAMP:20260424T051100Z
DESCRIPTION: https://www.sarria.gal/es/turismo/que-facer/ferias-festas-even
 tos/evento/233-deporte-27-e-28-de-xaneiro
DTSTART:20240127T090000Z
DTEND:20240128T180000Z
LOCATION:Sarria ()
SUMMARY:Deporte 27 e 28 de xaneiro.
URL:https://www.sarria.gal/es/turismo/que-facer/ferias-festas-eventos/event
 o/233-deporte-27-e-28-de-xaneiro
END:VEVENT
END:VCALENDAR
