BEGIN:VCALENDAR
VERSION:2.0
PRODID:-//https://www.sarria.gal///NONSGML kigkonsult.se iCalcreator 2.10.15//
METHOD:PUBLISH
BEGIN:VEVENT
UID:20260424T113105UTC-6336ZuNNWz@https://www.sarria.gal/
DTSTAMP:20260424T113105Z
DESCRIPTION: https://www.sarria.gal/es/turismo/que-facer/ferias-festas-even
 tos/evento/558-iv-mostra-de-teatro-ivan-touron-morais-eu-quero-ser
DTSTART:20251003T160000Z
DTEND:20251003T173000Z
LOCATION:Casa da Cultura\, rúa Marqués de Ugena s/n (Rúa Marqués de Ugena\,
  27600 Sarria\, Lugo\, España)
SUMMARY:IV Mostra de Teatro Iván Tourón Morais. 'Eu quero ser...'
URL:https://www.sarria.gal/es/turismo/que-facer/ferias-festas-eventos/event
 o/558-iv-mostra-de-teatro-ivan-touron-morais-eu-quero-ser
END:VEVENT
END:VCALENDAR
