BEGIN:VCALENDAR
VERSION:2.0
PRODID:-//https://www.sarria.gal///NONSGML kigkonsult.se iCalcreator 2.10.15//
METHOD:PUBLISH
BEGIN:VEVENT
UID:20260425T004848UTC-7509RlXOTU@https://www.sarria.gal/
DTSTAMP:20260425T004848Z
DESCRIPTION: https://www.sarria.gal/es/turismo/que-facer/ferias-festas-even
 tos/evento/559-iv-mostra-de-teatro-ivan-touron-morais-as-vellas-non-deben-
 de-namorarse
DTSTART:20251005T180000Z
DTEND:20251005T193000Z
LOCATION:Casa da Cultura\, rúa Marqués de Ugena s/n (Rúa Marqués de Ugena\,
  27600 Sarria\, Lugo\, España)
SUMMARY:IV Mostra de Teatro Iván Tourón Morais. 'As Vellas non deben de nam
 orarse'.'
URL:https://www.sarria.gal/es/turismo/que-facer/ferias-festas-eventos/event
 o/559-iv-mostra-de-teatro-ivan-touron-morais-as-vellas-non-deben-de-namora
 rse
END:VEVENT
END:VCALENDAR
