BEGIN:VCALENDAR
VERSION:2.0
PRODID:-//https://www.sarria.gal///NONSGML kigkonsult.se iCalcreator 2.10.15//
METHOD:PUBLISH
BEGIN:VEVENT
UID:20260425T004850UTC-3581dClHOd@https://www.sarria.gal/
DTSTAMP:20260425T004850Z
DESCRIPTION:Sociedad Deportiva Sarriana\n\nSábado 11:15 infantil\nSábado 13
 :00 xuvenil\nDomingo 11:30 cadete\n\n&nbsp\;\n\n\n https://www.sarria.gal/
 es/turismo/que-facer/ferias-festas-eventos/evento/563-deportes-fin-de-sema
 na
DTSTART:20251005T152800Z
DTEND:20251005T202800Z
LOCATION:Sarria ()
SUMMARY:Deportes fin de semana
URL:https://www.sarria.gal/es/turismo/que-facer/ferias-festas-eventos/event
 o/563-deportes-fin-de-semana
END:VEVENT
END:VCALENDAR
