BEGIN:VCALENDAR
VERSION:2.0
PRODID:-//https://www.sarria.gal///NONSGML kigkonsult.se iCalcreator 2.10.15//
METHOD:PUBLISH
BEGIN:VEVENT
UID:20260424T184841UTC-7188hkKK5d@https://www.sarria.gal/
DTSTAMP:20260424T184841Z
DESCRIPTION: https://www.sarria.gal/es/turismo/que-facer/ferias-festas-even
 tos/evento/568-iv-mostra-de-teatro-ivan-touron-morais-xela-a-superheroina-
 de-aldea
DTSTART:20251010T160000Z
DTEND:20251010T170000Z
LOCATION:Casa da Cultura\, rúa Marqués de Ugena s/n (Rúa Marqués de Ugena\,
  27600 Sarria\, Lugo\, España)
SUMMARY:IV Mostra de Teatro Iván Tourón Morais. 'Xela\, a superheroína de a
 ldea'.
URL:https://www.sarria.gal/es/turismo/que-facer/ferias-festas-eventos/event
 o/568-iv-mostra-de-teatro-ivan-touron-morais-xela-a-superheroina-de-aldea
END:VEVENT
END:VCALENDAR
