BEGIN:VCALENDAR
VERSION:2.0
PRODID:-//https://www.sarria.gal///NONSGML kigkonsult.se iCalcreator 2.10.15//
METHOD:PUBLISH
BEGIN:VEVENT
UID:20260424T162207UTC-5324X2lkJs@https://www.sarria.gal/
DTSTAMP:20260424T162207Z
DESCRIPTION: https://www.sarria.gal/es/turismo/que-facer/ferias-festas-even
 tos/evento/569-iv-mostra-de-teatro-ivan-touron-morais-estremonias-da-silva
DTSTART:20251012T183000Z
DTEND:20251012T200000Z
LOCATION:Casa da Cultura\, rúa Marqués de Ugena s/n (Rúa Marqués de Ugena\,
  27600 Sarria\, Lugo\, España)
SUMMARY:IV Mostra de Teatro Iván Tourón Morais. 'Estremonías da silva'
URL:https://www.sarria.gal/es/turismo/que-facer/ferias-festas-eventos/event
 o/569-iv-mostra-de-teatro-ivan-touron-morais-estremonias-da-silva
END:VEVENT
END:VCALENDAR
