BEGIN:VCALENDAR
VERSION:2.0
PRODID:-//https://www.sarria.gal///NONSGML kigkonsult.se iCalcreator 2.10.15//
METHOD:PUBLISH
BEGIN:VEVENT
UID:20260424T101116UTC-1937rFPLsX@https://www.sarria.gal/
DTSTAMP:20260424T101116Z
DESCRIPTION: https://www.sarria.gal/es/turismo/que-facer/ferias-festas-even
 tos/evento/571-iv-mostra-de-teatro-ivan-touron-morais-elas-sempre-contan
DTSTART:20251017T160000Z
DTEND:20251017T173000Z
LOCATION:Casa da Cultura\, rúa Marqués de Ugena s/n (Rúa Marqués de Ugena\,
  27600 Sarria\, Lugo\, España)
SUMMARY:IV Mostra de Teatro Iván Tourón Morais. 'Elas sempre contan.'
URL:https://www.sarria.gal/es/turismo/que-facer/ferias-festas-eventos/event
 o/571-iv-mostra-de-teatro-ivan-touron-morais-elas-sempre-contan
END:VEVENT
END:VCALENDAR
