BEGIN:VCALENDAR
VERSION:2.0
PRODID:-//https://www.sarria.gal///NONSGML kigkonsult.se iCalcreator 2.10.15//
METHOD:PUBLISH
BEGIN:VEVENT
UID:20260423T134126UTC-7269duasZL@https://www.sarria.gal/
DTSTAMP:20260423T134126Z
DESCRIPTION:\n https://www.sarria.gal/es/turismo/que-facer/ferias-festas-ev
 entos/evento/578-xiii-master-sarria-futbolin
DTSTART:20251102T162100Z
DTEND:20251102T182100Z
LOCATION:Pavillón dos Institutos ()
SUMMARY:XIII Máster Sarria Futbolín
URL:https://www.sarria.gal/es/turismo/que-facer/ferias-festas-eventos/event
 o/578-xiii-master-sarria-futbolin
END:VEVENT
END:VCALENDAR
