BEGIN:VCALENDAR
VERSION:2.0
PRODID:-//https://www.sarria.gal///NONSGML kigkonsult.se iCalcreator 2.10.15//
METHOD:PUBLISH
BEGIN:VEVENT
UID:20260423T190736UTC-77181LuRS8@https://www.sarria.gal/
DTSTAMP:20260423T190736Z
DESCRIPTION: https://www.sarria.gal/es/turismo/que-facer/ferias-festas-even
 tos/evento/581-simposios-salvaxes-charlas-culturais-con-artistas-de-sarria
DTSTART:20251029T190000Z
DTEND:20251029T203000Z
LOCATION:Biblioteca Pública Municipal Camilo Gonsar. ()
SUMMARY:Simposios Salvaxes. Charlas culturais con artistas de Sarria
URL:https://www.sarria.gal/es/turismo/que-facer/ferias-festas-eventos/event
 o/581-simposios-salvaxes-charlas-culturais-con-artistas-de-sarria
END:VEVENT
END:VCALENDAR
