BEGIN:VCALENDAR
VERSION:2.0
PRODID:-//https://www.sarria.gal///NONSGML kigkonsult.se iCalcreator 2.10.15//
METHOD:PUBLISH
BEGIN:VEVENT
UID:20260423T161539UTC-3649enLv2V@https://www.sarria.gal/
DTSTAMP:20260423T161539Z
DESCRIPTION: https://www.sarria.gal/es/turismo/que-facer/ferias-festas-even
 tos/evento/582-festa-infantil-de-samain
DTSTART:20251031T170000Z
DTEND:20251031T193000Z
LOCATION:Casa da Cultura\, rúa Marqués de Ugena s/n (Rúa Marqués de Ugena\,
  27600 Sarria\, Lugo\, España)
SUMMARY:Festa Infantil de Samaín.
URL:https://www.sarria.gal/es/turismo/que-facer/ferias-festas-eventos/event
 o/582-festa-infantil-de-samain
END:VEVENT
END:VCALENDAR
