BEGIN:VCALENDAR
VERSION:2.0
PRODID:-//https://www.sarria.gal///NONSGML kigkonsult.se iCalcreator 2.10.15//
METHOD:PUBLISH
BEGIN:VEVENT
UID:20260422T165136UTC-9373hXzsX4@https://www.sarria.gal/
DTSTAMP:20260422T165136Z
DESCRIPTION: https://www.sarria.gal/es/turismo/que-facer/ferias-festas-even
 tos/evento/675-a-eclipse-do-12-de-agosto-encontro-con-borja-tosar
DTSTART:20260424T183000Z
DTEND:20260424T200000Z
LOCATION:Casa da Cultura\, rúa Marqués de Ugena s/n (Rúa Marqués de Ugena\,
  27600 Sarria\, Lugo\, España)
SUMMARY:A Eclipse do 12 de agosto. Encontro con Borja Tosar
URL:https://www.sarria.gal/es/turismo/que-facer/ferias-festas-eventos/event
 o/675-a-eclipse-do-12-de-agosto-encontro-con-borja-tosar
END:VEVENT
END:VCALENDAR
