BEGIN:VCALENDAR
VERSION:2.0
PRODID:-//https://www.sarria.gal///NONSGML kigkonsult.se iCalcreator 2.10.15//
METHOD:PUBLISH
BEGIN:VEVENT
UID:20260422T082203UTC-6299aCnnrS@https://www.sarria.gal/
DTSTAMP:20260422T082203Z
DESCRIPTION:\n https://www.sarria.gal/gl/cidadania/participacion/eventos/ev
 ento/661-deportes-fin-de-semana-7-e-8-de-marzo
DTSTART:20260308T113500Z
DTEND:20260308T203500Z
LOCATION:Sarria ()
SUMMARY:Deportes fin de semana. 7 e 8 de marzo
URL:https://www.sarria.gal/gl/cidadania/participacion/eventos/evento/661-de
 portes-fin-de-semana-7-e-8-de-marzo
END:VEVENT
END:VCALENDAR
