BEGIN:VCALENDAR
VERSION:2.0
PRODID:-//https://www.sarria.gal///NONSGML kigkonsult.se iCalcreator 2.10.15//
METHOD:PUBLISH
BEGIN:VEVENT
UID:20260426T040250UTC-7773o5lni5@https://www.sarria.gal/
DTSTAMP:20260426T040250Z
DESCRIPTION: https://www.sarria.gal/gl/turismo/que-facer/ferias-festas-even
 tos/evento/106-xii-torneo-vila-de-sarria-de-ximnasia-ritmica-pavillon-jose
 -mario-gonzalez-sarria-xirandela
DTSTART:20230521T163000Z
DTEND:20230521T183000Z
LOCATION:Pavillón José Mario González.  O Chanto ()
SUMMARY:XII Torneo Vila de Sarria de Ximnasia Rítmica. Pavillón José Mario 
 González Sarria. Xirandela
URL:https://www.sarria.gal/gl/turismo/que-facer/ferias-festas-eventos/event
 o/106-xii-torneo-vila-de-sarria-de-ximnasia-ritmica-pavillon-jose-mario-go
 nzalez-sarria-xirandela
END:VEVENT
END:VCALENDAR
