BEGIN:VCALENDAR
VERSION:2.0
PRODID:-//https://www.sarria.gal///NONSGML kigkonsult.se iCalcreator 2.10.15//
METHOD:PUBLISH
BEGIN:VEVENT
UID:20260426T025833UTC-9997hJAkGV@https://www.sarria.gal/
DTSTAMP:20260426T025833Z
DESCRIPTION: https://www.sarria.gal/gl/turismo/que-facer/ferias-festas-even
 tos/evento/107-ler-conciencia-fatima-g-doval-salon-de-actos-ies-xograr-afo
 nso-gomez
DTSTART:20230522T163000Z
DTEND:20230522T183000Z
LOCATION:IES Xograr Afonso Gómez. ()
SUMMARY:LER conCiencia. Fátima G. Doval. Salón de Actos IES 'Xograr Afonso 
 Gómez'. 
URL:https://www.sarria.gal/gl/turismo/que-facer/ferias-festas-eventos/event
 o/107-ler-conciencia-fatima-g-doval-salon-de-actos-ies-xograr-afonso-gomez
END:VEVENT
END:VCALENDAR
