BEGIN:VCALENDAR
VERSION:2.0
PRODID:-//https://www.sarria.gal///NONSGML kigkonsult.se iCalcreator 2.10.15//
METHOD:PUBLISH
BEGIN:VEVENT
UID:20260425T102037UTC-8434MdMfou@https://www.sarria.gal/
DTSTAMP:20260425T102037Z
DESCRIPTION:https://sarria.gal/gl/cidadania/participacion/eventos-deportivo
 s/422-iii-concentracion-de-vehiculos-clasicos-vila-de-sarria-4-de-xuno-202
 3\n https://www.sarria.gal/gl/turismo/que-facer/ferias-festas-eventos/even
 to/108-iii-concentracion-de-vehiculos-clasicos-vila-de-sarria
DTSTART:20230604T093000Z
DTEND:20230604T193000Z
LOCATION:Praza da Vila  (Praza da Vila\, 27600 Sarria\, Lugo\, España)
SUMMARY:III Concentración de Vehículos clásicos 'Vila de Sarria'.
URL:https://www.sarria.gal/gl/turismo/que-facer/ferias-festas-eventos/event
 o/108-iii-concentracion-de-vehiculos-clasicos-vila-de-sarria
END:VEVENT
END:VCALENDAR
