BEGIN:VCALENDAR
VERSION:2.0
PRODID:-//https://www.sarria.gal///NONSGML kigkonsult.se iCalcreator 2.10.15//
METHOD:PUBLISH
BEGIN:VEVENT
UID:20260425T113006UTC-9578AFJOAG@https://www.sarria.gal/
DTSTAMP:20260425T113006Z
DESCRIPTION:https://sarria.gal/gl/cidadania/participacion/cultura-2/420-hos
 pitaleros-sin-fronteras-mercadino-solidario-segunda-edicion\n https://www.
 sarria.gal/gl/turismo/que-facer/ferias-festas-eventos/evento/109-ii-mercad
 ino-solidario-hospitaleros-sin-fronteras
DTSTART:20230603T120000Z
DTEND:20230603T210000Z
LOCATION:Praza de Santa Mariña ()
SUMMARY:II Mercadiño solidario Hospitaleros sin fronteras.
URL:https://www.sarria.gal/gl/turismo/que-facer/ferias-festas-eventos/event
 o/109-ii-mercadino-solidario-hospitaleros-sin-fronteras
END:VEVENT
END:VCALENDAR
