BEGIN:VCALENDAR
VERSION:2.0
PRODID:-//https://www.sarria.gal///NONSGML kigkonsult.se iCalcreator 2.10.15//
METHOD:PUBLISH
BEGIN:VEVENT
UID:20260424T123412UTC-4696Ou7GLv@https://www.sarria.gal/
DTSTAMP:20260424T123412Z
DESCRIPTION: https://www.sarria.gal/gl/turismo/que-facer/ferias-festas-even
 tos/evento/111-concerto-dos-clarisaxos-da-esmusa
DTSTART:20230622T200000Z
DTEND:20230622T211500Z
LOCATION:Paseo do Malecón ()
SUMMARY:Concerto dos Clarisaxos da ESMUSA
URL:https://www.sarria.gal/gl/turismo/que-facer/ferias-festas-eventos/event
 o/111-concerto-dos-clarisaxos-da-esmusa
END:VEVENT
END:VCALENDAR
