BEGIN:VCALENDAR
VERSION:2.0
PRODID:-//https://www.sarria.gal///NONSGML kigkonsult.se iCalcreator 2.10.15//
METHOD:PUBLISH
BEGIN:VEVENT
UID:20260424T162050UTC-9231WZoBvD@https://www.sarria.gal/
DTSTAMP:20260424T162050Z
DESCRIPTION: https://www.sarria.gal/gl/turismo/que-facer/ferias-festas-even
 tos/evento/112-concerto-de-os-petapouco-da-esmusa
DTSTART:20230619T190000Z
DTEND:20230619T201500Z
LOCATION:Paseo do Malecón ()
SUMMARY:Concerto de Os Petapouco da ESMUSA
URL:https://www.sarria.gal/gl/turismo/que-facer/ferias-festas-eventos/event
 o/112-concerto-de-os-petapouco-da-esmusa
END:VEVENT
END:VCALENDAR
