BEGIN:VCALENDAR
VERSION:2.0
PRODID:-//https://www.sarria.gal///NONSGML kigkonsult.se iCalcreator 2.10.15//
METHOD:PUBLISH
BEGIN:VEVENT
UID:20260423T051351UTC-2448ClAgEG@https://www.sarria.gal/
DTSTAMP:20260423T051351Z
DESCRIPTION: https://www.sarria.gal/gl/turismo/que-facer/ferias-festas-even
 tos/evento/115-ultreia-et-suseia-sarria-2023-caminografias
DTSTART:20230717T153000Z
DTEND:20230717T173000Z
LOCATION:Praza da Constitución. ()
SUMMARY:Ultreia et Suseia Sarria 2023. Camiñografías
URL:https://www.sarria.gal/gl/turismo/que-facer/ferias-festas-eventos/event
 o/115-ultreia-et-suseia-sarria-2023-caminografias
END:VEVENT
END:VCALENDAR
