BEGIN:VCALENDAR
VERSION:2.0
PRODID:-//https://www.sarria.gal///NONSGML kigkonsult.se iCalcreator 2.10.15//
METHOD:PUBLISH
BEGIN:VEVENT
UID:20260422T204440UTC-0515hvK0vk@https://www.sarria.gal/
DTSTAMP:20260422T204440Z
DESCRIPTION: https://www.sarria.gal/gl/turismo/que-facer/ferias-festas-even
 tos/evento/116-ultreia-et-suseia-sarria-2023-caminografias
DTSTART:20230724T193000Z
DTEND:20230724T213000Z
LOCATION:Praza de Santa Mariña ()
SUMMARY:Ultreia et Suseia Sarria 2023. Camiñografías.
URL:https://www.sarria.gal/gl/turismo/que-facer/ferias-festas-eventos/event
 o/116-ultreia-et-suseia-sarria-2023-caminografias
END:VEVENT
END:VCALENDAR
