BEGIN:VCALENDAR
VERSION:2.0
PRODID:-//https://www.sarria.gal///NONSGML kigkonsult.se iCalcreator 2.10.15//
METHOD:PUBLISH
BEGIN:VEVENT
UID:20260423T050617UTC-1224u1mEIV@https://www.sarria.gal/
DTSTAMP:20260423T050617Z
DESCRIPTION: https://www.sarria.gal/gl/turismo/que-facer/ferias-festas-even
 tos/evento/117-ultreia-et-suseia-narracion-oral-atenea-garcia
DTSTART:20230717T210000Z
DTEND:20230717T215700Z
LOCATION:Sociedade La Unión ()
SUMMARY:Ultreia et Suseia. Narración oral. Atenea García
URL:https://www.sarria.gal/gl/turismo/que-facer/ferias-festas-eventos/event
 o/117-ultreia-et-suseia-narracion-oral-atenea-garcia
END:VEVENT
END:VCALENDAR
