BEGIN:VCALENDAR
VERSION:2.0
PRODID:-//https://www.sarria.gal///NONSGML kigkonsult.se iCalcreator 2.10.15//
METHOD:PUBLISH
BEGIN:VEVENT
UID:20260423T035614UTC-5407kK87hn@https://www.sarria.gal/
DTSTAMP:20260423T035614Z
DESCRIPTION: https://www.sarria.gal/gl/turismo/que-facer/ferias-festas-even
 tos/evento/118-ultreia-et-suseia-2023-narracion-oral-vero-rilo
DTSTART:20230718T210000Z
DTEND:20230718T215700Z
LOCATION:Sociedade La Unión ()
SUMMARY:Ultreia et Suseia 2023. Narración Oral. Vero Rilo.
URL:https://www.sarria.gal/gl/turismo/que-facer/ferias-festas-eventos/event
 o/118-ultreia-et-suseia-2023-narracion-oral-vero-rilo
END:VEVENT
END:VCALENDAR
