BEGIN:VCALENDAR
VERSION:2.0
PRODID:-//https://www.sarria.gal///NONSGML kigkonsult.se iCalcreator 2.10.15//
METHOD:PUBLISH
BEGIN:VEVENT
UID:20260423T025538UTC-3330MtiJUU@https://www.sarria.gal/
DTSTAMP:20260423T025538Z
DESCRIPTION: https://www.sarria.gal/gl/turismo/que-facer/ferias-festas-even
 tos/evento/119-ultreia-et-suseia-2023-narracion-oral-raquel-queizas
DTSTART:20230719T210000Z
DTEND:20230719T215700Z
LOCATION:Sociedade La Unión ()
SUMMARY:Ultreia et Suseia 2023. Narración oral. Raquel Queizás
URL:https://www.sarria.gal/gl/turismo/que-facer/ferias-festas-eventos/event
 o/119-ultreia-et-suseia-2023-narracion-oral-raquel-queizas
END:VEVENT
END:VCALENDAR
