BEGIN:VCALENDAR
VERSION:2.0
PRODID:-//https://www.sarria.gal///NONSGML kigkonsult.se iCalcreator 2.10.15//
METHOD:PUBLISH
BEGIN:VEVENT
UID:20260423T013931UTC-4462S6iPRV@https://www.sarria.gal/
DTSTAMP:20260423T013931Z
DESCRIPTION: https://www.sarria.gal/gl/turismo/que-facer/ferias-festas-even
 tos/evento/120-ultreia-et-suseia-2023-narracion-oral-paula-carballeira
DTSTART:20230720T210000Z
DTEND:20230720T215700Z
LOCATION:Sociedade La Unión ()
SUMMARY:Ultreia et Suseia 2023. Narración Oral. Paula Carballeira
URL:https://www.sarria.gal/gl/turismo/que-facer/ferias-festas-eventos/event
 o/120-ultreia-et-suseia-2023-narracion-oral-paula-carballeira
END:VEVENT
END:VCALENDAR
