BEGIN:VCALENDAR
VERSION:2.0
PRODID:-//https://www.sarria.gal///NONSGML kigkonsult.se iCalcreator 2.10.15//
METHOD:PUBLISH
BEGIN:VEVENT
UID:20260422T231257UTC-9558UvxovF@https://www.sarria.gal/
DTSTAMP:20260422T231257Z
DESCRIPTION: https://www.sarria.gal/gl/turismo/que-facer/ferias-festas-even
 tos/evento/121-ultreia-et-suseia-2023-monologo-xose-a-tourinan
DTSTART:20230722T210000Z
DTEND:20230722T215700Z
LOCATION:Auditorio de Meigas e Trasgos. ()
SUMMARY:Ultreia et Suseia 2023. Monólogo. Xosé A. Touriñán
URL:https://www.sarria.gal/gl/turismo/que-facer/ferias-festas-eventos/event
 o/121-ultreia-et-suseia-2023-monologo-xose-a-tourinan
END:VEVENT
END:VCALENDAR
