BEGIN:VCALENDAR
VERSION:2.0
PRODID:-//https://www.sarria.gal///NONSGML kigkonsult.se iCalcreator 2.10.15//
METHOD:PUBLISH
BEGIN:VEVENT
UID:20260423T062504UTC-63895UOfuL@https://www.sarria.gal/
DTSTAMP:20260423T062504Z
DESCRIPTION: https://www.sarria.gal/gl/turismo/que-facer/ferias-festas-even
 tos/evento/123-ultreia-et-suseia-2023-recuncho-da-comedia-danny-boy-rivera
 -david-amor-e-pablo-meixe
DTSTART:20230716T203000Z
DTEND:20230716T213000Z
LOCATION:Auditorio de Meigas e Trasgos. ()
SUMMARY:Ultreia et Suseia 2023. Recuncho da comedia. Danny Boy-Rivera\, Dav
 id Amor e Pablo Meixe.
URL:https://www.sarria.gal/gl/turismo/que-facer/ferias-festas-eventos/event
 o/123-ultreia-et-suseia-2023-recuncho-da-comedia-danny-boy-rivera-david-am
 or-e-pablo-meixe
END:VEVENT
END:VCALENDAR
