BEGIN:VCALENDAR
VERSION:2.0
PRODID:-//https://www.sarria.gal///NONSGML kigkonsult.se iCalcreator 2.10.15//
METHOD:PUBLISH
BEGIN:VEVENT
UID:20260423T025656UTC-1110cI1KkU@https://www.sarria.gal/
DTSTAMP:20260423T025656Z
DESCRIPTION:\n https://www.sarria.gal/gl/turismo/que-facer/ferias-festas-ev
 entos/evento/124-unha-historia-de-maxia-do-camino-frances-mago-anton
DTSTART;VALUE=DATE:20230719
LOCATION:Parque de O Chanto ()
SUMMARY:Unha historia de maxia do Camiño Francés. Mago Antón.
URL:https://www.sarria.gal/gl/turismo/que-facer/ferias-festas-eventos/event
 o/124-unha-historia-de-maxia-do-camino-frances-mago-anton
END:VEVENT
END:VCALENDAR
