BEGIN:VCALENDAR
VERSION:2.0
PRODID:-//https://www.sarria.gal///NONSGML kigkonsult.se iCalcreator 2.10.15//
METHOD:PUBLISH
BEGIN:VEVENT
UID:20260423T062434UTC-1278lUXHmv@https://www.sarria.gal/
DTSTAMP:20260423T062434Z
DESCRIPTION:\n https://www.sarria.gal/gl/turismo/que-facer/ferias-festas-ev
 entos/evento/126-torneo-de-futbol-sala-de-oural-do-14-o-16-de-xullo
DTSTART:20230714T220000Z
DTEND:20230716T142900Z
LOCATION:Pavillón de Oural ()
SUMMARY:Torneo de Fútbol Sala de Oural. Do 14 ó 16 de xullo.
URL:https://www.sarria.gal/gl/turismo/que-facer/ferias-festas-eventos/event
 o/126-torneo-de-futbol-sala-de-oural-do-14-o-16-de-xullo
END:VEVENT
END:VCALENDAR
