BEGIN:VCALENDAR
VERSION:2.0
PRODID:-//https://www.sarria.gal///NONSGML kigkonsult.se iCalcreator 2.10.15//
METHOD:PUBLISH
BEGIN:VEVENT
UID:20260420T080931UTC-1866VmUARh@https://www.sarria.gal/
DTSTAMP:20260420T080931Z
DESCRIPTION: https://www.sarria.gal/gl/turismo/que-facer/ferias-festas-even
 tos/evento/133-sarria-blues-no-camino-proxeccion-do-documental-hondarribia
 -crossroads
DTSTART:20230803T180000Z
DTEND:20230803T193000Z
LOCATION:Antiga Prisión Preventiva (Rua Da Mercede\, 38\, 27619 Sarria\, Lu
 go\, España)
SUMMARY:Sarria Blues no Camiño. Proxección do documental  Hondarribia Cross
 roads.
URL:https://www.sarria.gal/gl/turismo/que-facer/ferias-festas-eventos/event
 o/133-sarria-blues-no-camino-proxeccion-do-documental-hondarribia-crossroa
 ds
END:VEVENT
END:VCALENDAR
