BEGIN:VCALENDAR
VERSION:2.0
PRODID:-//https://www.sarria.gal///NONSGML kigkonsult.se iCalcreator 2.10.15//
METHOD:PUBLISH
BEGIN:VEVENT
UID:20260420T085253UTC-1530lWBwcn@https://www.sarria.gal/
DTSTAMP:20260420T085253Z
DESCRIPTION: https://www.sarria.gal/gl/turismo/que-facer/ferias-festas-even
 tos/evento/212-motonoleada-sarria
DTSTART:20231224T163000Z
DTEND:20231224T193000Z
LOCATION:Sarria ()
SUMMARY:Motonoleada Sarria.
URL:https://www.sarria.gal/gl/turismo/que-facer/ferias-festas-eventos/event
 o/212-motonoleada-sarria
END:VEVENT
END:VCALENDAR
