BEGIN:VCALENDAR
VERSION:2.0
PRODID:-//https://www.sarria.gal///NONSGML kigkonsult.se iCalcreator 2.10.15//
METHOD:PUBLISH
BEGIN:VEVENT
UID:20260423T112244UTC-0793xtvE7Z@https://www.sarria.gal/
DTSTAMP:20260423T112244Z
DESCRIPTION:\n https://www.sarria.gal/gl/turismo/que-facer/ferias-festas-ev
 entos/evento/249-ix-xuntanza-de-palilleiras-asociacion-de-palilleiras-cami
 no-de-santiago
DTSTART:20240316T090000Z
DTEND:20240316T190000Z
LOCATION:Pavillón dos Institutos ()
SUMMARY:IX Xuntanza de Palilleiras. Asociación de palilleiras Camiño de San
 tiago.
URL:https://www.sarria.gal/gl/turismo/que-facer/ferias-festas-eventos/event
 o/249-ix-xuntanza-de-palilleiras-asociacion-de-palilleiras-camino-de-santi
 ago
END:VEVENT
END:VCALENDAR
