BEGIN:VCALENDAR
VERSION:2.0
PRODID:-//https://www.sarria.gal///NONSGML kigkonsult.se iCalcreator 2.10.15//
METHOD:PUBLISH
BEGIN:VEVENT
UID:20260425T125935UTC-7554dAaf23@https://www.sarria.gal/
DTSTAMP:20260425T125935Z
DESCRIPTION:\n https://www.sarria.gal/gl/turismo/que-facer/ferias-festas-ev
 entos/evento/269-unidade-mobil-doazon-de-sangue-xoves-25-de-abril
DTSTART:20240425T080000Z
DTEND:20240425T190000Z
LOCATION:Rúa da Liberdade ()
SUMMARY:Unidade Móbil Doazón de Sangue. Xoves 25 de abril
URL:https://www.sarria.gal/gl/turismo/que-facer/ferias-festas-eventos/event
 o/269-unidade-mobil-doazon-de-sangue-xoves-25-de-abril
END:VEVENT
END:VCALENDAR
