BEGIN:VCALENDAR
VERSION:2.0
PRODID:-//https://www.sarria.gal///NONSGML kigkonsult.se iCalcreator 2.10.15//
METHOD:PUBLISH
BEGIN:VEVENT
UID:20260425T164811UTC-2964nezu0E@https://www.sarria.gal/
DTSTAMP:20260425T164811Z
DESCRIPTION:\n https://www.sarria.gal/gl/turismo/que-facer/ferias-festas-ev
 entos/evento/275-deporte-27-e-28-de-abril
DTSTART:20240428T070000Z
DTEND:20240428T212800Z
LOCATION:Sarria ()
SUMMARY:Deporte 27 e 28 de abril
URL:https://www.sarria.gal/gl/turismo/que-facer/ferias-festas-eventos/event
 o/275-deporte-27-e-28-de-abril
END:VEVENT
END:VCALENDAR
