BEGIN:VCALENDAR
VERSION:2.0
PRODID:-//https://www.sarria.gal///NONSGML kigkonsult.se iCalcreator 2.10.15//
METHOD:PUBLISH
BEGIN:VEVENT
UID:20260425T153446UTC-8474eOhR4f@https://www.sarria.gal/
DTSTAMP:20260425T153446Z
DESCRIPTION: https://www.sarria.gal/gl/turismo/que-facer/ferias-festas-even
 tos/evento/279-presentacion-do-disco-10-anos-de-rock-and-roll-rua-da-music
 a
DTSTART:20240427T170000Z
DTEND:20240427T180000Z
LOCATION:Casa da Cultura\, rúa Marqués de Ugena s/n (Rúa Marqués de Ugena\,
  27600 Sarria\, Lugo\, España)
SUMMARY:Presentación do disco '10 anos de rock and roll Rúa da Música.
URL:https://www.sarria.gal/gl/turismo/que-facer/ferias-festas-eventos/event
 o/279-presentacion-do-disco-10-anos-de-rock-and-roll-rua-da-musica
END:VEVENT
END:VCALENDAR
