BEGIN:VCALENDAR
VERSION:2.0
PRODID:-//https://www.sarria.gal///NONSGML kigkonsult.se iCalcreator 2.10.15//
METHOD:PUBLISH
BEGIN:VEVENT
UID:20260420T060518UTC-1850bSCCP4@https://www.sarria.gal/
DTSTAMP:20260420T060518Z
DESCRIPTION:\n https://www.sarria.gal/gl/turismo/que-facer/ferias-festas-ev
 entos/evento/292-deporte-11-e-12-de-maio
DTSTART:20240511T080000Z
DTEND:20240512T190000Z
LOCATION:Sarria ()
SUMMARY:Deporte 11 e 12 de maio.
URL:https://www.sarria.gal/gl/turismo/que-facer/ferias-festas-eventos/event
 o/292-deporte-11-e-12-de-maio
END:VEVENT
END:VCALENDAR
