BEGIN:VCALENDAR
VERSION:2.0
PRODID:-//https://www.sarria.gal///NONSGML kigkonsult.se iCalcreator 2.10.15//
METHOD:PUBLISH
BEGIN:VEVENT
UID:20260420T043240UTC-9059iWuIKv@https://www.sarria.gal/
DTSTAMP:20260420T043240Z
DESCRIPTION:\n https://www.sarria.gal/gl/turismo/que-facer/ferias-festas-ev
 entos/evento/303-deporte-25-e-26-de-maio
DTSTART:20240525T080000Z
DTEND:20240526T190000Z
LOCATION:Sarria ()
SUMMARY:Deporte 25 e 26 de maio
URL:https://www.sarria.gal/gl/turismo/que-facer/ferias-festas-eventos/event
 o/303-deporte-25-e-26-de-maio
END:VEVENT
END:VCALENDAR
