BEGIN:VCALENDAR
VERSION:2.0
PRODID:-//https://www.sarria.gal///NONSGML kigkonsult.se iCalcreator 2.10.15//
METHOD:PUBLISH
BEGIN:VEVENT
UID:20260420T060738UTC-1335pTMv5O@https://www.sarria.gal/
DTSTAMP:20260420T060738Z
DESCRIPTION:https://deporcampus.rcdeportivo.es/es/sarria-2024/inicio\n http
 s://www.sarria.gal/gl/turismo/que-facer/ferias-festas-eventos/evento/313-d
 eporcampus-sarria-2024
DTSTART:20240624T080000Z
DTEND:20240628T153000Z
LOCATION:Sarria ()
SUMMARY:Déporcampus Sarria 2024
URL:https://www.sarria.gal/gl/turismo/que-facer/ferias-festas-eventos/event
 o/313-deporcampus-sarria-2024
END:VEVENT
END:VCALENDAR
