BEGIN:VCALENDAR
VERSION:2.0
PRODID:-//https://www.sarria.gal///NONSGML kigkonsult.se iCalcreator 2.10.15//
METHOD:PUBLISH
BEGIN:VEVENT
UID:20260423T081258UTC-3658swvSmM@https://www.sarria.gal/
DTSTAMP:20260423T081258Z
DESCRIPTION: https://www.sarria.gal/gl/turismo/que-facer/ferias-festas-even
 tos/evento/349-broken-peach
DTSTART:20240831T233000Z
DTEND:20240901T010000Z
LOCATION:Parque de O Chanto ()
SUMMARY:Broken Peach
URL:https://www.sarria.gal/gl/turismo/que-facer/ferias-festas-eventos/event
 o/349-broken-peach
END:VEVENT
END:VCALENDAR
