BEGIN:VCALENDAR
VERSION:2.0
PRODID:-//https://www.sarria.gal///NONSGML kigkonsult.se iCalcreator 2.10.15//
METHOD:PUBLISH
BEGIN:VEVENT
UID:20260424T140210UTC-7125W30bV6@https://www.sarria.gal/
DTSTAMP:20260424T140210Z
DESCRIPTION: https://www.sarria.gal/gl/turismo/que-facer/ferias-festas-even
 tos/evento/407-concerto-de-nadal-da-esmusa
DTSTART:20241220T190000Z
DTEND:20241220T203000Z
LOCATION:Casa da Cultura\, rúa Marqués de Ugena s/n (Rúa Marqués de Ugena\,
  27600 Sarria\, Lugo\, España)
SUMMARY:Concerto de Nadal da ESMUSA
URL:https://www.sarria.gal/gl/turismo/que-facer/ferias-festas-eventos/event
 o/407-concerto-de-nadal-da-esmusa
END:VEVENT
END:VCALENDAR
