BEGIN:VCALENDAR
VERSION:2.0
PRODID:-//https://www.sarria.gal///NONSGML kigkonsult.se iCalcreator 2.10.15//
METHOD:PUBLISH
BEGIN:VEVENT
UID:20260424T140505UTC-4922jjToiX@https://www.sarria.gal/
DTSTAMP:20260424T140505Z
DESCRIPTION: https://www.sarria.gal/gl/turismo/que-facer/ferias-festas-even
 tos/evento/408-concerto-de-nadal-aula-de-percusion-esmusa
DTSTART:20241217T183000Z
DTEND:20241218T200000Z
LOCATION:Casa da Cultura\, rúa Marqués de Ugena s/n (Rúa Marqués de Ugena\,
  27600 Sarria\, Lugo\, España)
SUMMARY:Concerto de Nadal. Aula de Percusión ESMUSA
URL:https://www.sarria.gal/gl/turismo/que-facer/ferias-festas-eventos/event
 o/408-concerto-de-nadal-aula-de-percusion-esmusa
END:VEVENT
END:VCALENDAR
