BEGIN:VCALENDAR
VERSION:2.0
PRODID:-//https://www.sarria.gal///NONSGML kigkonsult.se iCalcreator 2.10.15//
METHOD:PUBLISH
BEGIN:VEVENT
UID:20260420T070956UTC-1111O1jDe7@https://www.sarria.gal/
DTSTAMP:20260420T070956Z
DESCRIPTION: https://www.sarria.gal/gl/turismo/que-facer/ferias-festas-even
 tos/evento/409-motonoelada-sarria-bikers
DTSTART:20241221T173000Z
DTEND:20241221T203000Z
LOCATION:Sarria ()
SUMMARY:Motonoelada SARRIA Bikers
URL:https://www.sarria.gal/gl/turismo/que-facer/ferias-festas-eventos/event
 o/409-motonoelada-sarria-bikers
END:VEVENT
END:VCALENDAR
