BEGIN:VCALENDAR
VERSION:2.0
PRODID:-//https://www.sarria.gal///NONSGML kigkonsult.se iCalcreator 2.10.15//
METHOD:PUBLISH
BEGIN:VEVENT
UID:20260422T082701UTC-76424SzKuJ@https://www.sarria.gal/
DTSTAMP:20260422T082701Z
DESCRIPTION: https://www.sarria.gal/gl/turismo/que-facer/ferias-festas-even
 tos/evento/461-love-esta-en-el-aire-david-amor
DTSTART:20250418T180000Z
DTEND:20250418T194800Z
LOCATION:Sarria ()
SUMMARY:Love está en el aire. David Amor
URL:https://www.sarria.gal/gl/turismo/que-facer/ferias-festas-eventos/event
 o/461-love-esta-en-el-aire-david-amor
END:VEVENT
END:VCALENDAR
