BEGIN:VCALENDAR
VERSION:2.0
PRODID:-//https://www.sarria.gal///NONSGML kigkonsult.se iCalcreator 2.10.15//
METHOD:PUBLISH
BEGIN:VEVENT
UID:20260422T095707UTC-9983H21VX2@https://www.sarria.gal/
DTSTAMP:20260422T095707Z
DESCRIPTION: https://www.sarria.gal/gl/turismo/que-facer/ferias-festas-even
 tos/evento/536-sarria-blues-no-camino
DTSTART:20250809T180000Z
DTEND:20250809T205700Z
LOCATION:Sarria ()
SUMMARY:Sarria Blues no Camiño
URL:https://www.sarria.gal/gl/turismo/que-facer/ferias-festas-eventos/event
 o/536-sarria-blues-no-camino
END:VEVENT
END:VCALENDAR
