BEGIN:VCALENDAR
VERSION:2.0
PRODID:-//https://www.sarria.gal///NONSGML kigkonsult.se iCalcreator 2.10.15//
METHOD:PUBLISH
BEGIN:VEVENT
UID:20260422T095611UTC-25181iX0uB@https://www.sarria.gal/
DTSTAMP:20260422T095611Z
DESCRIPTION: https://www.sarria.gal/gl/turismo/que-facer/ferias-festas-even
 tos/evento/539-danny-boy-rivera-stand-up
DTSTART:20250825T180000Z
DTEND:20250825T193000Z
LOCATION:Paseo do Malecón ()
SUMMARY:Danny Boy-Rivera. Stand Up
URL:https://www.sarria.gal/gl/turismo/que-facer/ferias-festas-eventos/event
 o/539-danny-boy-rivera-stand-up
END:VEVENT
END:VCALENDAR
