BEGIN:VCALENDAR
VERSION:2.0
PRODID:-//https://www.sarria.gal///NONSGML kigkonsult.se iCalcreator 2.10.15//
METHOD:PUBLISH
BEGIN:VEVENT
UID:20260420T085357UTC-6704ZwMTUn@https://www.sarria.gal/
DTSTAMP:20260420T085357Z
DESCRIPTION:\n https://www.sarria.gal/gl/turismo/que-facer/ferias-festas-ev
 entos/evento/604-milla-urbana-de-sarria
DTSTART:20251231T170000Z
DTEND:20251231T200000Z
LOCATION:Sarria ()
SUMMARY:Milla Urbana de Sarria.
URL:https://www.sarria.gal/gl/turismo/que-facer/ferias-festas-eventos/event
 o/604-milla-urbana-de-sarria
END:VEVENT
END:VCALENDAR
