BEGIN:VCALENDAR
VERSION:2.0
PRODID:-//https://www.sarria.gal///NONSGML kigkonsult.se iCalcreator 2.10.15//
METHOD:PUBLISH
BEGIN:VEVENT
UID:20260422T082526UTC-06040tSzwb@https://www.sarria.gal/
DTSTAMP:20260422T082526Z
DESCRIPTION: https://www.sarria.gal/gl/turismo/que-facer/ferias-festas-even
 tos/evento/612-duende-circo-payaso-total
DTSTART:20251220T163000Z
DTEND:20251220T174000Z
LOCATION:Praza da Vila  (Praza da Vila\, 27600 Sarria\, Lugo\, España)
SUMMARY:Duende Circo. Payaso total
URL:https://www.sarria.gal/gl/turismo/que-facer/ferias-festas-eventos/event
 o/612-duende-circo-payaso-total
END:VEVENT
END:VCALENDAR
