BEGIN:VCALENDAR
VERSION:2.0
PRODID:-//https://www.sarria.gal///NONSGML kigkonsult.se iCalcreator 2.10.15//
METHOD:PUBLISH
BEGIN:VEVENT
UID:20260420T084902UTC-3615jUdIHw@https://www.sarria.gal/
DTSTAMP:20260420T084902Z
DESCRIPTION: https://www.sarria.gal/gl/turismo/que-facer/ferias-festas-even
 tos/evento/614-desfile-de-papa-noel
DTSTART:20251223T170000Z
DTEND:20251223T200000Z
LOCATION:Sarria ()
SUMMARY:Desfile de Papá Noel
URL:https://www.sarria.gal/gl/turismo/que-facer/ferias-festas-eventos/event
 o/614-desfile-de-papa-noel
END:VEVENT
END:VCALENDAR
