BEGIN:VCALENDAR
VERSION:2.0
PRODID:-//https://www.sarria.gal///NONSGML kigkonsult.se iCalcreator 2.10.15//
METHOD:PUBLISH
BEGIN:VEVENT
UID:20260420T085357UTC-9971EBAVzK@https://www.sarria.gal/
DTSTAMP:20260420T085357Z
DESCRIPTION: https://www.sarria.gal/gl/turismo/que-facer/ferias-festas-even
 tos/evento/616-malabarian-on-the-rox
DTSTART:20251227T160000Z
DTEND:20251227T173000Z
LOCATION:Praza da Vila  (Praza da Vila\, 27600 Sarria\, Lugo\, España)
SUMMARY:Malabarian on the Rox
URL:https://www.sarria.gal/gl/turismo/que-facer/ferias-festas-eventos/event
 o/616-malabarian-on-the-rox
END:VEVENT
END:VCALENDAR
